BEGIN:VCALENDAR
VERSION:2.0
PRODID:-//Imanol Epelde Pagola - ECPv6.15.20//NONSGML v1.0//EN
CALSCALE:GREGORIAN
METHOD:PUBLISH
X-WR-CALNAME:Imanol Epelde Pagola
X-ORIGINAL-URL:https://imanolepelde.com
X-WR-CALDESC:Events for Imanol Epelde Pagola
REFRESH-INTERVAL;VALUE=DURATION:PT1H
X-Robots-Tag:noindex
X-PUBLISHED-TTL:PT1H
BEGIN:VTIMEZONE
TZID:Europe/Madrid
BEGIN:DAYLIGHT
TZOFFSETFROM:+0100
TZOFFSETTO:+0200
TZNAME:CEST
DTSTART:20250330T010000
END:DAYLIGHT
BEGIN:STANDARD
TZOFFSETFROM:+0200
TZOFFSETTO:+0100
TZNAME:CET
DTSTART:20251026T010000
END:STANDARD
BEGIN:DAYLIGHT
TZOFFSETFROM:+0100
TZOFFSETTO:+0200
TZNAME:CEST
DTSTART:20260329T010000
END:DAYLIGHT
BEGIN:STANDARD
TZOFFSETFROM:+0200
TZOFFSETTO:+0100
TZNAME:CET
DTSTART:20261025T010000
END:STANDARD
BEGIN:DAYLIGHT
TZOFFSETFROM:+0100
TZOFFSETTO:+0200
TZNAME:CEST
DTSTART:20270328T010000
END:DAYLIGHT
BEGIN:STANDARD
TZOFFSETFROM:+0200
TZOFFSETTO:+0100
TZNAME:CET
DTSTART:20271031T010000
END:STANDARD
END:VTIMEZONE
BEGIN:VEVENT
DTSTART;TZID=Europe/Madrid:20260502T190000
DTEND;TZID=Europe/Madrid:20260502T200000
DTSTAMP:20260424T063519
CREATED:20260216T132939Z
LAST-MODIFIED:20260422T092747Z
UID:1212-1777748400-1777752000@imanolepelde.com
SUMMARY:Oiartzun
DESCRIPTION:
URL:https://imanolepelde.com/emanaldia/oiartzun/
END:VEVENT
BEGIN:VEVENT
DTSTART;TZID=Europe/Madrid:20260523T190000
DTEND;TZID=Europe/Madrid:20260523T200000
DTSTAMP:20260424T063519
CREATED:20260327T082946Z
LAST-MODIFIED:20260327T082946Z
UID:1277-1779562800-1779566400@imanolepelde.com
SUMMARY:Mallabia
DESCRIPTION:Zazpi pago
URL:https://imanolepelde.com/emanaldia/mallabia/
END:VEVENT
BEGIN:VEVENT
DTSTART;TZID=Europe/Madrid:20260529T200000
DTEND;TZID=Europe/Madrid:20260529T210000
DTSTAMP:20260424T063519
CREATED:20251023T134819Z
LAST-MODIFIED:20251023T134819Z
UID:140-1780084800-1780088400@imanolepelde.com
SUMMARY:Zarautz
DESCRIPTION:Literaturia
URL:https://imanolepelde.com/emanaldia/zarautz/
END:VEVENT
BEGIN:VEVENT
DTSTART;TZID=Europe/Madrid:20260605T200000
DTEND;TZID=Europe/Madrid:20260605T210000
DTSTAMP:20260424T063519
CREATED:20260105T110701Z
LAST-MODIFIED:20260105T111404Z
UID:1082-1780689600-1780693200@imanolepelde.com
SUMMARY:Betelu
DESCRIPTION:
URL:https://imanolepelde.com/emanaldia/betelu/
END:VEVENT
BEGIN:VEVENT
DTSTART;TZID=Europe/Madrid:20260628T190000
DTEND;TZID=Europe/Madrid:20260628T200000
DTSTAMP:20260424T063519
CREATED:20251103T081106Z
LAST-MODIFIED:20251103T081106Z
UID:998-1782673200-1782676800@imanolepelde.com
SUMMARY:Berriatua
DESCRIPTION:
URL:https://imanolepelde.com/emanaldia/berriatua/
END:VEVENT
BEGIN:VEVENT
DTSTART;TZID=Europe/Madrid:20261004T170000
DTEND;TZID=Europe/Madrid:20261004T180000
DTSTAMP:20260424T063519
CREATED:20260415T101009Z
LAST-MODIFIED:20260415T101009Z
UID:1337-1791133200-1791136800@imanolepelde.com
SUMMARY:Getaria
DESCRIPTION:
URL:https://imanolepelde.com/emanaldia/getaria/
END:VEVENT
BEGIN:VEVENT
DTSTART;TZID=Europe/Madrid:20261018T170000
DTEND;TZID=Europe/Madrid:20261018T180000
DTSTAMP:20260424T063519
CREATED:20260422T094806Z
LAST-MODIFIED:20260422T094824Z
UID:1347-1792342800-1792346400@imanolepelde.com
SUMMARY:Zestoa
DESCRIPTION:
URL:https://imanolepelde.com/emanaldia/zestoa/
END:VEVENT
BEGIN:VEVENT
DTSTART;TZID=Europe/Madrid:20261029T200000
DTEND;TZID=Europe/Madrid:20261029T210000
DTSTAMP:20260424T063519
CREATED:20251023T135000Z
LAST-MODIFIED:20251023T135000Z
UID:142-1793304000-1793307600@imanolepelde.com
SUMMARY:Berastegi
DESCRIPTION:
URL:https://imanolepelde.com/emanaldia/berastegi/
END:VEVENT
END:VCALENDAR